BEGIN:VCALENDAR
VERSION:2.0
PRODID:-//hacksw/handcal//NONSGML v1.0//EN
BEGIN:VEVENT
SUMMARY:Match
UID:94a89077-0573-45ba-a8ae-9f9df748595f
DTSTART:20260226T090000Z
DTEND:20260226T130000Z
LOCATION:Localisation   
CATEGORIES:Sportif
STATUS:
DESCRIPTION:Belle victoire de notre equipe ! Rendez-vous samedi pour
 le prochain match. 
URL;VALUE=URI:https://as-pepiniere-futsal-90.sportsregions.fr/evenements/2026/02/26/match-2420804
END:VEVENT
BEGIN:VEVENT
SUMMARY:Tournoi regional
UID:f88b8436-95d5-40a6-bd0b-6a3f9461ca93
DTSTART:20260226T090000Z
DTEND:20260226T130000Z
LOCATION:Localisation   
CATEGORIES:Sportif
STATUS:
DESCRIPTION:<p>Le tournoi regional organise par le club aura lieu sur
 le grand stade de la ville a partir de 14h.<br> Trois de nos equipes
 seront en lice dans la competition.
 </p><p>Les prix seront remis en
 soiree.</p>
URL;VALUE=URI:https://as-pepiniere-futsal-90.sportsregions.fr/evenements/2026/02/26/tournoi-regional-2420803
END:VEVENT
BEGIN:VEVENT
SUMMARY:Entrainement Equipe 1
UID:b24e1a71-32dc-4f0b-9485-f4bf0f0e0570
DTSTART:20260226T180000Z
DTEND:20260226T200000Z
LOCATION:Localisation   
CATEGORIES:Entrainement
STATUS:
DESCRIPTION:Entrainement tactique pour l'equipe 1 ce soir au stade
 Municipal. 
URL;VALUE=URI:https://as-pepiniere-futsal-90.sportsregions.fr/evenements/2026/02/26/entrainement-equipe-1-2420805
END:VEVENT
END:VCALENDAR
